BEGIN:VCALENDAR
VERSION:2.0
PRODID:-//Aktiv-Schule Erfurt - ECPv6.8.3//NONSGML v1.0//EN
CALSCALE:GREGORIAN
METHOD:PUBLISH
X-WR-CALNAME:Aktiv-Schule Erfurt
X-ORIGINAL-URL:https://www.aktivschule-erfurt.de
X-WR-CALDESC:Veranstaltungen für Aktiv-Schule Erfurt
REFRESH-INTERVAL;VALUE=DURATION:PT1H
X-Robots-Tag:noindex
X-PUBLISHED-TTL:PT1H
BEGIN:VTIMEZONE
TZID:Europe/Berlin
BEGIN:DAYLIGHT
TZOFFSETFROM:+0100
TZOFFSETTO:+0200
TZNAME:CEST
DTSTART:20260329T010000
END:DAYLIGHT
BEGIN:STANDARD
TZOFFSETFROM:+0200
TZOFFSETTO:+0100
TZNAME:CET
DTSTART:20261025T010000
END:STANDARD
END:VTIMEZONE
BEGIN:VEVENT
DTSTART;VALUE=DATE:20260422
DTEND;VALUE=DATE:20260423
DTSTAMP:20260422T015507
CREATED:20251020T120635Z
LAST-MODIFIED:20260325T134208Z
UID:8815-1776816000-1776902399@www.aktivschule-erfurt.de
SUMMARY:Tag für Entwicklungsgespräche
DESCRIPTION:An diesem Tag findet kein Unterricht in der Schule statt!\nFür Eltern\, deren Kinder die Klassen 1 bis 6 besuchen\, bieten wir eine Betreuung durch unsere KollegInnen im Ganztag an.\nWenn diese benötigt wird\, müssen Eltern das per E-Mail versendete Formular „Anmeldung Betreuungsbedarf“ ausfüllen und bis 27.03.26 bei der jeweiligen Stammgruppenleitung abgeben\, damit planen können.
URL:https://www.aktivschule-erfurt.de/termin/tag-fuer-entwicklungsgespraeche/
LOCATION:Aktiv-Schule Erfurt\, Schellrodaer Weg 4\, Erfurt\, 99097\, Deutschland
END:VEVENT
END:VCALENDAR