BEGIN:VCALENDAR
VERSION:2.0
PRODID:-//Aktiv-Schule Erfurt - ECPv6.8.3//NONSGML v1.0//EN
CALSCALE:GREGORIAN
METHOD:PUBLISH
X-WR-CALNAME:Aktiv-Schule Erfurt
X-ORIGINAL-URL:https://www.aktivschule-erfurt.de
X-WR-CALDESC:Veranstaltungen für Aktiv-Schule Erfurt
REFRESH-INTERVAL;VALUE=DURATION:PT1H
X-Robots-Tag:noindex
X-PUBLISHED-TTL:PT1H
BEGIN:VTIMEZONE
TZID:Europe/Berlin
BEGIN:DAYLIGHT
TZOFFSETFROM:+0100
TZOFFSETTO:+0200
TZNAME:CEST
DTSTART:20260329T010000
END:DAYLIGHT
BEGIN:STANDARD
TZOFFSETFROM:+0200
TZOFFSETTO:+0100
TZNAME:CET
DTSTART:20261025T010000
END:STANDARD
END:VTIMEZONE
BEGIN:VEVENT
DTSTART;VALUE=DATE:20260424
DTEND;VALUE=DATE:20260501
DTSTAMP:20260424T014612
CREATED:20220922T074304Z
LAST-MODIFIED:20250814T070238Z
UID:5194-1776988800-1777593599@www.aktivschule-erfurt.de
SUMMARY:Kulturwoche K10
DESCRIPTION:
URL:https://www.aktivschule-erfurt.de/termin/kulturwoche-k10/
LOCATION:Aktiv-Schule Erfurt\, Schellrodaer Weg 4\, Erfurt\, 99097\, Deutschland
END:VEVENT
END:VCALENDAR